<?xml version="1.0" encoding="UTF-8"?>
<TileMap version="1.0.0" tilemapservice="https://geospatialbangladesh.info/geoserver/gwc/service/tms/1.0.0">
  <Title>Primary Power Grid Substation</Title>
  <Abstract>Locations of power grid substations in Bangladesh.

Source
Bangladesh Power Development Board (BPDB)
OpenStreet Map

Limitation of Use
The GIS data and any other information presented on this web site is strictly limited to non commercial use.

Disclaimer
Geospatial Bangladesh makes no representation or warranty as to the accuracy, completeness, reliability or suitability of the GIS data and any other information provided in this website for any specific purpose and disclaims any responsibility or liability for any expenses, losses, damages and costs which may be suffered or incurred as a result of or in connection with using or relying on the data or the information provided in this website.

Content Type
Printable Map

Attributes

Field Name: type
Field Type: String
Field Width: 50
Field Value Definition: Type of the substation.

Field Name: name
Field Type: String
Field Width: 100
Field Value Definition: Name of the substation.

Field Name: conf
Field Type: String
Field Width: 100
Field Value Definition: Substation configuration.

Field Name: capmva
Field Type: Double
Field Value Definition: Substation capacity in MVA.</Abstract>
  <SRS>EPSG:4326</SRS>
  <BoundingBox minx="0.0" miny="-90.0" maxx="180.0" maxy="90.0"/>
  <Origin x="0.0" y="-90.0"/>
  <TileFormat width="256" height="256" mime-type="image/png" extension="png"/>
  <TileSets profile="local">
    <TileSet href="https://geospatialbangladesh.info/geoserver/gwc/service/tms/1.0.0/bangladesh%3APrimary+Power+Grid+Substation@EPSG%3A4326@png/0" units-per-pixel="0.703125" order="0"/>
    <TileSet href="https://geospatialbangladesh.info/geoserver/gwc/service/tms/1.0.0/bangladesh%3APrimary+Power+Grid+Substation@EPSG%3A4326@png/1" units-per-pixel="0.3515625" order="1"/>
    <TileSet href="https://geospatialbangladesh.info/geoserver/gwc/service/tms/1.0.0/bangladesh%3APrimary+Power+Grid+Substation@EPSG%3A4326@png/2" units-per-pixel="0.17578125" order="2"/>
    <TileSet href="https://geospatialbangladesh.info/geoserver/gwc/service/tms/1.0.0/bangladesh%3APrimary+Power+Grid+Substation@EPSG%3A4326@png/3" units-per-pixel="0.087890625" order="3"/>
    <TileSet href="https://geospatialbangladesh.info/geoserver/gwc/service/tms/1.0.0/bangladesh%3APrimary+Power+Grid+Substation@EPSG%3A4326@png/4" units-per-pixel="0.0439453125" order="4"/>
    <TileSet href="https://geospatialbangladesh.info/geoserver/gwc/service/tms/1.0.0/bangladesh%3APrimary+Power+Grid+Substation@EPSG%3A4326@png/5" units-per-pixel="0.02197265625" order="5"/>
    <TileSet href="https://geospatialbangladesh.info/geoserver/gwc/service/tms/1.0.0/bangladesh%3APrimary+Power+Grid+Substation@EPSG%3A4326@png/6" units-per-pixel="0.010986328125" order="6"/>
    <TileSet href="https://geospatialbangladesh.info/geoserver/gwc/service/tms/1.0.0/bangladesh%3APrimary+Power+Grid+Substation@EPSG%3A4326@png/7" units-per-pixel="0.0054931640625" order="7"/>
    <TileSet href="https://geospatialbangladesh.info/geoserver/gwc/service/tms/1.0.0/bangladesh%3APrimary+Power+Grid+Substation@EPSG%3A4326@png/8" units-per-pixel="0.00274658203125" order="8"/>
    <TileSet href="https://geospatialbangladesh.info/geoserver/gwc/service/tms/1.0.0/bangladesh%3APrimary+Power+Grid+Substation@EPSG%3A4326@png/9" units-per-pixel="0.001373291015625" order="9"/>
    <TileSet href="https://geospatialbangladesh.info/geoserver/gwc/service/tms/1.0.0/bangladesh%3APrimary+Power+Grid+Substation@EPSG%3A4326@png/10" units-per-pixel="6.866455078125E-4" order="10"/>
    <TileSet href="https://geospatialbangladesh.info/geoserver/gwc/service/tms/1.0.0/bangladesh%3APrimary+Power+Grid+Substation@EPSG%3A4326@png/11" units-per-pixel="3.4332275390625E-4" order="11"/>
    <TileSet href="https://geospatialbangladesh.info/geoserver/gwc/service/tms/1.0.0/bangladesh%3APrimary+Power+Grid+Substation@EPSG%3A4326@png/12" units-per-pixel="1.71661376953125E-4" order="12"/>
    <TileSet href="https://geospatialbangladesh.info/geoserver/gwc/service/tms/1.0.0/bangladesh%3APrimary+Power+Grid+Substation@EPSG%3A4326@png/13" units-per-pixel="8.58306884765625E-5" order="13"/>
    <TileSet href="https://geospatialbangladesh.info/geoserver/gwc/service/tms/1.0.0/bangladesh%3APrimary+Power+Grid+Substation@EPSG%3A4326@png/14" units-per-pixel="4.291534423828125E-5" order="14"/>
    <TileSet href="https://geospatialbangladesh.info/geoserver/gwc/service/tms/1.0.0/bangladesh%3APrimary+Power+Grid+Substation@EPSG%3A4326@png/15" units-per-pixel="2.1457672119140625E-5" order="15"/>
    <TileSet href="https://geospatialbangladesh.info/geoserver/gwc/service/tms/1.0.0/bangladesh%3APrimary+Power+Grid+Substation@EPSG%3A4326@png/16" units-per-pixel="1.0728836059570312E-5" order="16"/>
    <TileSet href="https://geospatialbangladesh.info/geoserver/gwc/service/tms/1.0.0/bangladesh%3APrimary+Power+Grid+Substation@EPSG%3A4326@png/17" units-per-pixel="5.364418029785156E-6" order="17"/>
    <TileSet href="https://geospatialbangladesh.info/geoserver/gwc/service/tms/1.0.0/bangladesh%3APrimary+Power+Grid+Substation@EPSG%3A4326@png/18" units-per-pixel="2.682209014892578E-6" order="18"/>
    <TileSet href="https://geospatialbangladesh.info/geoserver/gwc/service/tms/1.0.0/bangladesh%3APrimary+Power+Grid+Substation@EPSG%3A4326@png/19" units-per-pixel="1.341104507446289E-6" order="19"/>
    <TileSet href="https://geospatialbangladesh.info/geoserver/gwc/service/tms/1.0.0/bangladesh%3APrimary+Power+Grid+Substation@EPSG%3A4326@png/20" units-per-pixel="6.705522537231445E-7" order="20"/>
    <TileSet href="https://geospatialbangladesh.info/geoserver/gwc/service/tms/1.0.0/bangladesh%3APrimary+Power+Grid+Substation@EPSG%3A4326@png/21" units-per-pixel="3.3527612686157227E-7" order="21"/>
  </TileSets>
</TileMap>